BEGIN:VCALENDAR
VERSION:2.0
CALSCALE:GREGORIAN
PRODID:adamgibbons/ics
METHOD:PUBLISH
X-PUBLISHED-TTL:PT1H
BEGIN:VEVENT
UID:28@bootblack.events
SUMMARY:Bootblacking at Nice So Fetiche#8
DTSTAMP:20260424T180802Z
DTSTART:20241114T230000Z
DTEND:20241115T230000Z
DESCRIPTION:Nice So Fetiche (NSF) is one of the biggest fetish events in Fr
	ance. It has\nhosted the election of Mr Fetish France since 2023.\n\nBootb
	lacking will take place on Friday from 10am to 5pm at the LBGTQ+ centre an
	d\non Saturday morning at the Palm Hotel in Nice.
URL:https://bootblack.events/event/bootblacking-at-nice-so-fetiche8
LOCATION:Nice - France - Nice
STATUS:CONFIRMED
CATEGORIES:Bootblack Stand,France,Nice
X-ALT-DESC;FMTTYPE=text/html:<p>Nice So Fetiche (NSF) is one of the biggest
	 fetish events in France. It has hosted the election of Mr Fetish France s
	ince 2023. </p><p>Bootblacking will take place on Friday from 10am to 5pm 
	at the LBGTQ+ centre and on Saturday morning at the Palm Hotel in Nice.</p
	>
END:VEVENT
END:VCALENDAR
